BEGIN:VCALENDAR
VERSION:2.0
PRODID:-//GTP Headlines - ECPv6.10.0//NONSGML v1.0//EN
CALSCALE:GREGORIAN
METHOD:PUBLISH
X-ORIGINAL-URL:https://newsgtp.th.staging.generation-y.net
X-WR-CALDESC:Events for GTP Headlines
REFRESH-INTERVAL;VALUE=DURATION:PT1H
X-Robots-Tag:noindex
X-PUBLISHED-TTL:PT1H
BEGIN:VTIMEZONE
TZID:Europe/Athens
BEGIN:DAYLIGHT
TZOFFSETFROM:+0200
TZOFFSETTO:+0300
TZNAME:EEST
DTSTART:20230326T010000
END:DAYLIGHT
BEGIN:STANDARD
TZOFFSETFROM:+0300
TZOFFSETTO:+0200
TZNAME:EET
DTSTART:20231029T010000
END:STANDARD
END:VTIMEZONE
BEGIN:VEVENT
DTSTART;TZID=Europe/Athens:20231025T120000
DTEND;TZID=Europe/Athens:20231026T170000
DTSTAMP:20260421T195105
CREATED:20230705T124325Z
LAST-MODIFIED:20230705T124325Z
UID:483571-1698235200-1698339600@newsgtp.th.staging.generation-y.net
SUMMARY:Prodexpo 2023
DESCRIPTION:Prodexpo\, will be held for the 24rd consecutive year\, on October 25th & 26th at the Athens Concert Hall Megaron. \nProdexpo Conference is the annual flagship event for the Real Estate Industry. Prodexpo brings the best in class content – from speaker sessions\, to mentoring sessions and new business trends and thought-provoking discussions on real estate and development projects. \n 
URL:https://newsgtp.th.staging.generation-y.net/event/prodexpo-2023/
LOCATION:Megaron Athens International Conference Centre\, Vas. Sofias & Kokkali\, Athens\, Attica\, 11521\, Greece
CATEGORIES:Conferences
ATTACH;FMTTYPE=image/jpeg:https://newsgtp.th.staging.generation-y.net/wp-content/uploads/2023/07/Prodexpo.jpg
ORGANIZER;CN="SGT Tsomokos SA":MAILTO:info@tsomokos.gr
GEO:37.9847292;23.7578853
X-APPLE-STRUCTURED-LOCATION;VALUE=URI;X-ADDRESS=Megaron Athens International Conference Centre Vas. Sofias & Kokkali Athens Attica 11521 Greece;X-APPLE-RADIUS=500;X-TITLE=Vas. Sofias & Kokkali:geo:23.7578853,37.9847292
END:VEVENT
END:VCALENDAR