BEGIN:VCALENDAR
VERSION:2.0
PRODID:-//GTP Headlines - ECPv6.10.0//NONSGML v1.0//EN
CALSCALE:GREGORIAN
METHOD:PUBLISH
X-WR-CALNAME:GTP Headlines
X-ORIGINAL-URL:https://newsgtp.th.staging.generation-y.net
X-WR-CALDESC:Events for GTP Headlines
REFRESH-INTERVAL;VALUE=DURATION:PT1H
X-Robots-Tag:noindex
X-PUBLISHED-TTL:PT1H
BEGIN:VTIMEZONE
TZID:Europe/Athens
BEGIN:DAYLIGHT
TZOFFSETFROM:+0200
TZOFFSETTO:+0300
TZNAME:EEST
DTSTART:20240331T010000
END:DAYLIGHT
BEGIN:STANDARD
TZOFFSETFROM:+0300
TZOFFSETTO:+0200
TZNAME:EET
DTSTART:20241027T010000
END:STANDARD
END:VTIMEZONE
BEGIN:VEVENT
DTSTART;TZID=Europe/Athens:20240927T100000
DTEND;TZID=Europe/Athens:20240929T190000
DTSTAMP:20260422T034236
CREATED:20240829T083148Z
LAST-MODIFIED:20240829T083148Z
UID:534310-1727431200-1727636400@newsgtp.th.staging.generation-y.net
SUMMARY:Agios Nikolaos on SUP 2024
DESCRIPTION:Agios Nikolaos on SUP a premier stand-up paddleboarding (SUP) event\, part of the International Canoe Federation (ICF) World Cup series\, will take place on 27-29 September 2024. \nA key stop in the ICF SUP World Cup series\, Agios Nikolaos on SUP is attracting elite SUP athletes from around the globe. Competitors will participate in various disciplines\, including sprints\, technical races\, and long-distance events\, showcasing their skills and endurance on the water. The clear\, turquoise waters of Agios Nikolaos provide a perfect backdrop for the races\, making it a visually stunning location for both participants and spectators. \nWhile the event features top international athletes\, it also encourages participation from all skill levels. There will be races and activities tailored to beginners and intermediate paddlers\, making it a great event for SUP enthusiasts of all kinds.
URL:https://newsgtp.th.staging.generation-y.net/event/agios-nikolaos-on-sup-2024/
LOCATION:Agios Nikolaos\, Agios Nikolaos\, Crete\, 72100\, Greece
CATEGORIES:Sports Events
ATTACH;FMTTYPE=image/jpeg:https://newsgtp.th.staging.generation-y.net/wp-content/uploads/2022/08/AgiosNikolaosonSUP_events-feat.jpg
GEO:35.1899597;25.7164166
END:VEVENT
END:VCALENDAR