BEGIN:VCALENDAR
VERSION:2.0
PRODID:-//GTP Headlines - ECPv6.10.0//NONSGML v1.0//EN
CALSCALE:GREGORIAN
METHOD:PUBLISH
X-WR-CALNAME:GTP Headlines
X-ORIGINAL-URL:https://newsgtp.th.staging.generation-y.net
X-WR-CALDESC:Events for GTP Headlines
REFRESH-INTERVAL;VALUE=DURATION:PT1H
X-Robots-Tag:noindex
X-PUBLISHED-TTL:PT1H
BEGIN:VTIMEZONE
TZID:Europe/Athens
BEGIN:DAYLIGHT
TZOFFSETFROM:+0200
TZOFFSETTO:+0300
TZNAME:EEST
DTSTART:20190331T010000
END:DAYLIGHT
BEGIN:STANDARD
TZOFFSETFROM:+0300
TZOFFSETTO:+0200
TZNAME:EET
DTSTART:20191027T010000
END:STANDARD
END:VTIMEZONE
BEGIN:VEVENT
DTSTART;TZID=Europe/Athens:20191108T100000
DTEND;TZID=Europe/Athens:20191110T200000
DTSTAMP:20260425T164128
CREATED:20190712T140921Z
LAST-MODIFIED:20200311T025850Z
UID:246401-1573207200-1573416000@newsgtp.th.staging.generation-y.net
SUMMARY:Hotelia 2019
DESCRIPTION:Hotelia will be held during 8-10 November at the Thessaloniki International Exhibition Center. Once again\, it is here to show all novelties from the hotel\, catering and coffee making sectors. \nCovering the entire scope of professional equipment\, Hotelia aims to prove that last year’s engagement for outplacement will be expressed through the presentation of a contemporary and absolutely business orientated exhibition product. \nHotelia is held in parallel with Philoxenia\, where hotels\, resorts and significant tourist agencies will exhibit their services in almost 15.000sm. Once again\, the representation of the entire Greek territory – with the participation of touristic destinations\, popular or alternative ones\, will be remarkable. \nHotelia’s main sectors will be:\n– Design & Renovation\n– Cook & Serve\n– Technologies\n– Clean & Maintain\n\nFor another year Hotelia will include D Point Spaces\, Conferences and bartendering shows at the Art of Drinking Coffee & Spirit Event.
URL:https://newsgtp.th.staging.generation-y.net/event/hotelia-2019/
LOCATION:Helexpo – Thessaloniki International Exhibition Centre\, Egnatia 154\, Thessaloniki\, Thessaloniki\, 54636\, Greece
CATEGORIES:Themed events
ATTACH;FMTTYPE=image/jpeg:https://newsgtp.th.staging.generation-y.net/wp-content/uploads/2018/07/Hotelialogo.jpg
ORGANIZER;CN="TIF - Helexpo":MAILTO:philoxenia@helexpo.gr
GEO:40.6276637;22.9550758
X-APPLE-STRUCTURED-LOCATION;VALUE=URI;X-ADDRESS=Helexpo – Thessaloniki International Exhibition Centre Egnatia 154 Thessaloniki Thessaloniki 54636 Greece;X-APPLE-RADIUS=500;X-TITLE=Egnatia 154:geo:22.9550758,40.6276637
END:VEVENT
END:VCALENDAR