BEGIN:VCALENDAR
VERSION:2.0
PRODID:-//GTP Headlines - ECPv6.10.0//NONSGML v1.0//EN
CALSCALE:GREGORIAN
METHOD:PUBLISH
X-WR-CALNAME:GTP Headlines
X-ORIGINAL-URL:https://newsgtp.th.staging.generation-y.net
X-WR-CALDESC:Events for GTP Headlines
REFRESH-INTERVAL;VALUE=DURATION:PT1H
X-Robots-Tag:noindex
X-PUBLISHED-TTL:PT1H
BEGIN:VTIMEZONE
TZID:Europe/Athens
BEGIN:DAYLIGHT
TZOFFSETFROM:+0200
TZOFFSETTO:+0300
TZNAME:EEST
DTSTART:20220327T010000
END:DAYLIGHT
BEGIN:STANDARD
TZOFFSETFROM:+0300
TZOFFSETTO:+0200
TZNAME:EET
DTSTART:20221030T010000
END:STANDARD
END:VTIMEZONE
BEGIN:VEVENT
DTSTART;TZID=Europe/Athens:20220430T080000
DTEND;TZID=Europe/Athens:20220504T200000
DTSTAMP:20260422T233516
CREATED:20220131T120305Z
LAST-MODIFIED:20220131T120305Z
UID:425213-1651305600-1651694400@newsgtp.th.staging.generation-y.net
SUMMARY:MEDYS 2022
DESCRIPTION:The 7th Mediterranean Yacht Show (MEDYS)\, a targeted trade-only event for professionals\, will be held from April 30 to May 4 2022 at the picturesque port of Nafplio. \nThe MEDYS is an exclusive B2B event that brings together brokers from all corners of the globe\, encouraging them to connect and do business in an environment that is second to none. \nOrganized by the Greek Yachting Association (GYA) and held under the auspices of the Ministry of Tourism\, the Mediterranean Yacht Show has established itself as a must-attend event on the global yachting calendar\, offering foreign brokers the opportunity to inspect and appraise an outstanding fleet of commercial EU-flagged luxury yachts and the high caliber of services they provide. \nNafplio\, once again the venue for the Mediterranean Yacht Show\, is the perfect backdrop: an important medieval seaport under successive European royal houses and the first capital of modern Greece\, it sits in the Gulf of Nafplia\, one of the many picturesque and protected anchorages to be found along the lengthy coastline that is characteristic of Greece. \nThe Mediterranean Yacht Show is the perfect platform for highlighting the Greek yachting industry’s momentum as it continues to grow in size and strength each year. \nThe 6th MEDYS was a resounding success\, with 102 luxury crewed yachts and more than 450 international brokers from 31 countries around the world.
URL:https://newsgtp.th.staging.generation-y.net/event/medys-2022/
LOCATION:Nafplio Port\, Miaouli Street\, Nafplio\, Argolida\, 21100\, Greece
CATEGORIES:Themed events
ATTACH;FMTTYPE=image/jpeg:https://newsgtp.th.staging.generation-y.net/wp-content/uploads/2019/01/MEDYSlogo-feat.jpg
ORGANIZER;CN="Greek Yachting Association (GYA)":MAILTO:info@gya.gr
GEO:37.5673423;22.7999516
X-APPLE-STRUCTURED-LOCATION;VALUE=URI;X-ADDRESS=Nafplio Port Miaouli Street Nafplio Argolida 21100 Greece;X-APPLE-RADIUS=500;X-TITLE=Miaouli Street:geo:22.7999516,37.5673423
END:VEVENT
END:VCALENDAR