BEGIN:VCALENDAR
VERSION:2.0
PRODID:-//GTP Headlines - ECPv6.10.0//NONSGML v1.0//EN
CALSCALE:GREGORIAN
METHOD:PUBLISH
X-ORIGINAL-URL:https://newsgtp.th.staging.generation-y.net
X-WR-CALDESC:Events for GTP Headlines
REFRESH-INTERVAL;VALUE=DURATION:PT1H
X-Robots-Tag:noindex
X-PUBLISHED-TTL:PT1H
BEGIN:VTIMEZONE
TZID:Africa/Johannesburg
BEGIN:STANDARD
TZOFFSETFROM:+0200
TZOFFSETTO:+0200
TZNAME:SAST
DTSTART:20190101T000000
END:STANDARD
END:VTIMEZONE
BEGIN:VEVENT
DTSTART;TZID=Africa/Johannesburg:20190225T090000
DTEND;TZID=Africa/Johannesburg:20190227T140000
DTSTAMP:20260425T134327
CREATED:20180712T140201Z
LAST-MODIFIED:20200311T030134Z
UID:186078-1551085200-1551276000@newsgtp.th.staging.generation-y.net
SUMMARY:Meetings Africa 2019
DESCRIPTION:Meetings Africa showcases Africa’s diverse offering of services and products where African associations and African meetings industry professionals can partner to help transform Africa continent. \nIn 2019 Meetings Africa will be held on 25-27 February\, with the 25th of February be the Bonday and the next two the show days. \nIn 2018\, the event attracted almost 3\,000 delegates who visited to seal business deals\, explore African products and forge new networks in the international meetings sphere. The 306 business tourism exhibitors represented 21 African countries\, with 65 of these exhibitors coming from outside South Africa. The show also attracted 154 business and trade media representatives from across the continent and globe\, while more than 6\,400 business meetings were confirmed for the show.
URL:https://newsgtp.th.staging.generation-y.net/event/meetings-africa-2019/
LOCATION:Sandton Convention Centre\, Maude Street\, Johannesburg\, 2196\, South Africa
CATEGORIES:Travel exhibitions
ATTACH;FMTTYPE=image/jpeg:https://newsgtp.th.staging.generation-y.net/wp-content/uploads/2017/09/MeetingsAfrica-new.jpg
ORGANIZER;CN="South African Tourism":MAILTO:meetingsafrica@meetings-africa.co.za
GEO:-26.1073347;28.0525477
X-APPLE-STRUCTURED-LOCATION;VALUE=URI;X-ADDRESS=Sandton Convention Centre Maude Street Johannesburg 2196 South Africa;X-APPLE-RADIUS=500;X-TITLE=Maude Street:geo:28.0525477,-26.1073347
END:VEVENT
END:VCALENDAR