BEGIN:VCALENDAR
VERSION:2.0
PRODID:-//GTP Headlines - ECPv6.10.0//NONSGML v1.0//EN
CALSCALE:GREGORIAN
METHOD:PUBLISH
X-ORIGINAL-URL:https://newsgtp.th.staging.generation-y.net
X-WR-CALDESC:Events for GTP Headlines
REFRESH-INTERVAL;VALUE=DURATION:PT1H
X-Robots-Tag:noindex
X-PUBLISHED-TTL:PT1H
BEGIN:VTIMEZONE
TZID:Africa/Johannesburg
BEGIN:STANDARD
TZOFFSETFROM:+0200
TZOFFSETTO:+0200
TZNAME:SAST
DTSTART:20200101T000000
END:STANDARD
END:VTIMEZONE
BEGIN:VEVENT
DTSTART;TZID=Africa/Johannesburg:20200224T090000
DTEND;TZID=Africa/Johannesburg:20200226T140000
DTSTAMP:20260424T180911
CREATED:20190722T130806Z
LAST-MODIFIED:20190722T130806Z
UID:247527-1582534800-1582725600@newsgtp.th.staging.generation-y.net
SUMMARY:Meetings Africa 2020
DESCRIPTION:Meetings Africa showcases Africa’s diverse offering of services and products where African associations and African meetings industry professionals can partner to help transform Africa continent. \nIn 2020 Meetings Africa will be held on 24-26 February\, with the 24th of February be the Bonday and the next two the show days. \n 
URL:https://newsgtp.th.staging.generation-y.net/event/meetings-africa-2020/
LOCATION:Sandton Convention Centre\, Maude Street\, Johannesburg\, 2196\, South Africa
CATEGORIES:Travel exhibitions
ATTACH;FMTTYPE=image/jpeg:https://newsgtp.th.staging.generation-y.net/wp-content/uploads/2017/09/MeetingsAfrica-new.jpg
ORGANIZER;CN="South African Tourism":MAILTO:meetingsafrica@meetings-africa.co.za
GEO:-26.1073347;28.0525477
X-APPLE-STRUCTURED-LOCATION;VALUE=URI;X-ADDRESS=Sandton Convention Centre Maude Street Johannesburg 2196 South Africa;X-APPLE-RADIUS=500;X-TITLE=Maude Street:geo:28.0525477,-26.1073347
END:VEVENT
END:VCALENDAR