BEGIN:VCALENDAR
VERSION:2.0
PRODID:-//GTP Headlines - ECPv6.10.0//NONSGML v1.0//EN
CALSCALE:GREGORIAN
METHOD:PUBLISH
X-WR-CALNAME:GTP Headlines
X-ORIGINAL-URL:https://newsgtp.th.staging.generation-y.net
X-WR-CALDESC:Events for GTP Headlines
REFRESH-INTERVAL;VALUE=DURATION:PT1H
X-Robots-Tag:noindex
X-PUBLISHED-TTL:PT1H
BEGIN:VTIMEZONE
TZID:Europe/Athens
BEGIN:DAYLIGHT
TZOFFSETFROM:+0200
TZOFFSETTO:+0300
TZNAME:EEST
DTSTART:20180325T010000
END:DAYLIGHT
BEGIN:STANDARD
TZOFFSETFROM:+0300
TZOFFSETTO:+0200
TZNAME:EET
DTSTART:20181028T010000
END:STANDARD
END:VTIMEZONE
BEGIN:VEVENT
DTSTART;TZID=Europe/Athens:20180310T100000
DTEND;TZID=Europe/Athens:20180312T190000
DTSTAMP:20260425T031520
CREATED:20171227T134648Z
LAST-MODIFIED:20200311T030446Z
UID:148701-1520676000-1520881200@newsgtp.th.staging.generation-y.net
SUMMARY:Oenotelia 2018
DESCRIPTION:Integrated to Food Expo\, Oenotelia offers a plethora of important synergies\, as it allows exhibitors to present their products to\, and come into contact with\, thousands of representatives from organized retail\, wholesale and foodservice\, as well as with key international buyers. Moreover\, the simultaneous holding of two events gives the opportunity to Greek attendees and international hosted buyers to witness the full range and variety of Greek wine and gastronomy. \nRecognizing the importance\, prestige and international prospects of Oenotelia\, the Greek Wine Federation has taken the trade fair under its auspices and actively supports it. \nOenotelia has managed to become the only specialized wine and spirits exhibition in Greece\, with a purely professional character and an international orientation. Furthermore\, in order to meet the growing interest of the wine sector for the 2018 edition\, the organizing company has secured more than twice the surface area for the development of exhibitors\, in Hall 1 of the Metropolitan Expo. Oenotelia 2018 will cover an area of 2\,500 sq. m. (compared to 1\,150 sq. m. in 2017)\, where the stands of 250 wineries\, distilleries and distribution companies will be developed. \n 
URL:https://newsgtp.th.staging.generation-y.net/event/oenotelia-2018/
LOCATION:Metropolitan Expo\, Athens International Airport\, Spata\, Attica\, 19019 \, Greece
CATEGORIES:Themed events
ATTACH;FMTTYPE=image/jpeg:https://newsgtp.th.staging.generation-y.net/wp-content/uploads/2019/01/oenotelia.jpg
ORGANIZER;CN="Forum S.A.":MAILTO:info@forumsa.gr
GEO:37.953756;23.958652
X-APPLE-STRUCTURED-LOCATION;VALUE=URI;X-ADDRESS=Metropolitan Expo Athens International Airport Spata Attica 19019  Greece;X-APPLE-RADIUS=500;X-TITLE=Athens International Airport:geo:23.958652,37.953756
END:VEVENT
END:VCALENDAR