BEGIN:VCALENDAR
VERSION:2.0
PRODID:-//GTP Headlines - ECPv6.10.0//NONSGML v1.0//EN
CALSCALE:GREGORIAN
METHOD:PUBLISH
X-ORIGINAL-URL:https://newsgtp.th.staging.generation-y.net
X-WR-CALDESC:Events for GTP Headlines
REFRESH-INTERVAL;VALUE=DURATION:PT1H
X-Robots-Tag:noindex
X-PUBLISHED-TTL:PT1H
BEGIN:VTIMEZONE
TZID:Europe/Athens
BEGIN:DAYLIGHT
TZOFFSETFROM:+0200
TZOFFSETTO:+0300
TZNAME:EEST
DTSTART:20200329T010000
END:DAYLIGHT
BEGIN:STANDARD
TZOFFSETFROM:+0300
TZOFFSETTO:+0200
TZNAME:EET
DTSTART:20201025T010000
END:STANDARD
END:VTIMEZONE
BEGIN:VEVENT
DTSTART;TZID=Europe/Athens:20200516T100000
DTEND;TZID=Europe/Athens:20200518T163000
DTSTAMP:20260423T093103
CREATED:20200124T105612Z
LAST-MODIFIED:20200304T081206Z
UID:275814-1589623200-1589819400@newsgtp.th.staging.generation-y.net
SUMMARY:Oenotelia 2019
DESCRIPTION:Integrated in Food Expo\, Oenotelia offers a plethora of important synergies\, as it allows exhibitors to present their products to\, and come into contact with\, thousands of representatives from organized retail\, wholesale and foodservice\, as well as with key international buyers. Moreover\, the simultaneous holding of two events gives the opportunity to Greek attendees and international hosted buyers to witness the full range and variety of Greek wine and gastronomy. \nRecognizing the importance\, prestige and international prospects of Oenotelia\, the Greek Wine Federation has taken the trade fair under its auspices and actively supports it. \nOenotelia has managed to become the only specialized wine and spirits exhibition in Greece\, with a purely professional character and an international orientation. \nOenotelia 2020 is expected to host 230 exhibitors in a total exhibition area of 2\,700 square meters and is estimated to attract 30\,000 visitors and some 2\,300 B2B meetings. \nDuring the trade show\, a number of compelling seminars specifically intended for the hospitality\, foodservice and retail professionals will take place at a specially-designed area.
URL:https://newsgtp.th.staging.generation-y.net/event/oenotelia-2020/
LOCATION:Metropolitan Expo\, Athens International Airport\, Spata\, Attica\, 19019 \, Greece
CATEGORIES:Themed events
ATTACH;FMTTYPE=image/jpeg:https://newsgtp.th.staging.generation-y.net/wp-content/uploads/2019/01/oenotelia.jpg
ORGANIZER;CN="Forum S.A.":MAILTO:info@forumsa.gr
GEO:37.953756;23.958652
X-APPLE-STRUCTURED-LOCATION;VALUE=URI;X-ADDRESS=Metropolitan Expo Athens International Airport Spata Attica 19019  Greece;X-APPLE-RADIUS=500;X-TITLE=Athens International Airport:geo:23.958652,37.953756
END:VEVENT
END:VCALENDAR