BEGIN:VCALENDAR
VERSION:2.0
PRODID:-//GTP Headlines - ECPv6.10.0//NONSGML v1.0//EN
CALSCALE:GREGORIAN
METHOD:PUBLISH
X-WR-CALNAME:GTP Headlines
X-ORIGINAL-URL:https://newsgtp.th.staging.generation-y.net
X-WR-CALDESC:Events for GTP Headlines
REFRESH-INTERVAL;VALUE=DURATION:PT1H
X-Robots-Tag:noindex
X-PUBLISHED-TTL:PT1H
BEGIN:VTIMEZONE
TZID:Europe/Athens
BEGIN:DAYLIGHT
TZOFFSETFROM:+0200
TZOFFSETTO:+0300
TZNAME:EEST
DTSTART:20220327T010000
END:DAYLIGHT
BEGIN:STANDARD
TZOFFSETFROM:+0300
TZOFFSETTO:+0200
TZNAME:EET
DTSTART:20221030T010000
END:STANDARD
END:VTIMEZONE
BEGIN:VEVENT
DTSTART;TZID=Europe/Athens:20220312T100000
DTEND;TZID=Europe/Athens:20220314T163000
DTSTAMP:20260421T210454
CREATED:20220131T150421Z
LAST-MODIFIED:20220131T150502Z
UID:425255-1647079200-1647275400@newsgtp.th.staging.generation-y.net
SUMMARY:Oenotelia 2022
DESCRIPTION:Integrated in Food Expo\, Oenotelia offers a plethora of important synergies\, as it allows exhibitors to present their products to\, and come into contact with\, thousands of representatives from organized retail\, wholesale and foodservice\, as well as with key international buyers. Moreover\, the simultaneous holding of two events gives the opportunity to Greek attendees and international hosted buyers to witness the full range and variety of Greek wine and gastronomy. \nFrom 12-14 March 2022\, executives from across the spectrum of production\, standardization\, distribution and marketing of wines and spirits\, as well as that of hospitality\, foodservice and catering and important wine importers from abroad will have the opportunity to discover the full range and variety of Greek wines and spirits\, among 170 unique exhibitors. \nRecognizing the importance\, prestige and international prospects of Oenotelia\, the Greek Wine Federation has taken the trade fair under its auspices and actively supports it. \nOenotelia has managed to become the only specialized wine and spirits exhibition in Greece\, with a purely professional character and an international orientation. \n 
URL:https://newsgtp.th.staging.generation-y.net/event/oenotelia-2022/
LOCATION:Metropolitan Expo\, Athens International Airport\, Spata\, Attica\, 19019 \, Greece
CATEGORIES:Themed events
ATTACH;FMTTYPE=image/jpeg:https://newsgtp.th.staging.generation-y.net/wp-content/uploads/2019/01/oenotelia.jpg
ORGANIZER;CN="Forum S.A.":MAILTO:info@forumsa.gr
GEO:37.953756;23.958652
X-APPLE-STRUCTURED-LOCATION;VALUE=URI;X-ADDRESS=Metropolitan Expo Athens International Airport Spata Attica 19019  Greece;X-APPLE-RADIUS=500;X-TITLE=Athens International Airport:geo:23.958652,37.953756
END:VEVENT
END:VCALENDAR