BEGIN:VCALENDAR
VERSION:2.0
PRODID:-//GTP Headlines - ECPv6.10.0//NONSGML v1.0//EN
CALSCALE:GREGORIAN
METHOD:PUBLISH
X-ORIGINAL-URL:https://newsgtp.th.staging.generation-y.net
X-WR-CALDESC:Events for GTP Headlines
REFRESH-INTERVAL;VALUE=DURATION:PT1H
X-Robots-Tag:noindex
X-PUBLISHED-TTL:PT1H
BEGIN:VTIMEZONE
TZID:Europe/Athens
BEGIN:DAYLIGHT
TZOFFSETFROM:+0200
TZOFFSETTO:+0300
TZNAME:EEST
DTSTART:20200329T010000
END:DAYLIGHT
BEGIN:STANDARD
TZOFFSETFROM:+0300
TZOFFSETTO:+0200
TZNAME:EET
DTSTART:20201025T010000
END:STANDARD
END:VTIMEZONE
BEGIN:VEVENT
DTSTART;TZID=Europe/Athens:20200308T080000
DTEND;TZID=Europe/Athens:20200308T170000
DTSTAMP:20260424T132346
CREATED:20200206T152926Z
LAST-MODIFIED:20200211T072347Z
UID:273943-1583654400-1583686800@newsgtp.th.staging.generation-y.net
SUMMARY:Run Together Thessaloniki 2020
DESCRIPTION:Run Together powered by INTERSPORT & SAUCONY will be held for a second year in a row in Thessaloniki on Sunday\, March 8 2020 and in Athens at OAKA’s surrounding area on Sunday\, October 11 2020. \nIt’s a special fun run that aims to move people to run and to have fun together\, as it’s stated in its title. Moreover\, this sport event will be held for a good cause as it will support the Shelter for Women Violence Victims of the Thessaloniki Municipality. \nThe Run Together Thessaloniki 2020 will kick-off at the entrance of the TIF-Helexpo on Sunday\, March 8\, in the morning and will feature three routes of 3\, 6 and 9 km. \nPick your company and register here. \nFor more information visit the official website or call +30 210 4839480.
URL:https://newsgtp.th.staging.generation-y.net/event/run-together-thessaloniki-2020/
LOCATION:Helexpo – Thessaloniki International Exhibition Centre\, Egnatia 154\, Thessaloniki\, Thessaloniki\, 54636\, Greece
CATEGORIES:Sports Events
ATTACH;FMTTYPE=image/jpeg:https://newsgtp.th.staging.generation-y.net/wp-content/uploads/2020/02/RunTogether-eventsfeat.jpg
GEO:40.6276637;22.9550758
X-APPLE-STRUCTURED-LOCATION;VALUE=URI;X-ADDRESS=Helexpo – Thessaloniki International Exhibition Centre Egnatia 154 Thessaloniki Thessaloniki 54636 Greece;X-APPLE-RADIUS=500;X-TITLE=Egnatia 154:geo:22.9550758,40.6276637
END:VEVENT
END:VCALENDAR