BEGIN:VCALENDAR
VERSION:2.0
PRODID:-//GTP Headlines - ECPv6.10.0//NONSGML v1.0//EN
CALSCALE:GREGORIAN
METHOD:PUBLISH
X-WR-CALNAME:GTP Headlines
X-ORIGINAL-URL:https://newsgtp.th.staging.generation-y.net
X-WR-CALDESC:Events for GTP Headlines
REFRESH-INTERVAL;VALUE=DURATION:PT1H
X-Robots-Tag:noindex
X-PUBLISHED-TTL:PT1H
BEGIN:VTIMEZONE
TZID:Asia/Almaty
BEGIN:STANDARD
TZOFFSETFROM:+0600
TZOFFSETTO:+0600
TZNAME:+06
DTSTART:20200101T000000
END:STANDARD
END:VTIMEZONE
BEGIN:VEVENT
DTSTART;TZID=Asia/Almaty:20200108T093000
DTEND;TZID=Asia/Almaty:20200110T173000
DTSTAMP:20260425T184829
CREATED:20190717T131246Z
LAST-MODIFIED:20190717T131246Z
UID:246912-1578475800-1578677400@newsgtp.th.staging.generation-y.net
SUMMARY:SATTE 2020
DESCRIPTION:SATTE is India’s leading travel event\, providing professionals with the perfect platform to showcase their products and services to the global travel trade community\, with an opportunity to conduct business with an estimated over 12\,000 visitors\, including international and domestic buyers\, over 3 days. \nThe SATTE Conference attracts the who’s who of the travel industry\, including leading travel agents\, tour operators and MICE experts serving Indian inbound\, outbound & domestic tourism. \nOver the last 2 decades\, SATTE has become the launch platform for many countries and tourism products from across the globe to do business in and with India. SATTE has enjoyed much acclaim in international business circles and has been closely working with Ministry of Tourism\, UNWTO\, & PATA among the many other allure associations. \nIn 2019 the three-day expo has witnessed a tremendous response from the industry with participation from over 1\,000 exhibitors and representation from over 50+ countries\, 28 Indian States and 90 cities from across India.
URL:https://newsgtp.th.staging.generation-y.net/event/satte-2020/
LOCATION:India Expo Mart\, Knowledge Park – II\, Greater Noida\, 201306\, India
CATEGORIES:Travel exhibitions
ATTACH;FMTTYPE=image/jpeg:https://newsgtp.th.staging.generation-y.net/wp-content/uploads/2014/10/SATTE-newlogo.jpg
ORGANIZER;CN="UBM India Pvt. Ltd.":MAILTO:pallavi.mehra@ubm.com
GEO:28.461767;77.4974416
X-APPLE-STRUCTURED-LOCATION;VALUE=URI;X-ADDRESS=India Expo Mart Knowledge Park – II Greater Noida 201306 India;X-APPLE-RADIUS=500;X-TITLE=Knowledge Park – II:geo:77.4974416,28.461767
END:VEVENT
END:VCALENDAR