BEGIN:VCALENDAR
VERSION:2.0
PRODID:-//GTP Headlines - ECPv6.10.0//NONSGML v1.0//EN
CALSCALE:GREGORIAN
METHOD:PUBLISH
X-ORIGINAL-URL:https://newsgtp.th.staging.generation-y.net
X-WR-CALDESC:Events for GTP Headlines
REFRESH-INTERVAL;VALUE=DURATION:PT1H
X-Robots-Tag:noindex
X-PUBLISHED-TTL:PT1H
BEGIN:VTIMEZONE
TZID:Europe/Athens
BEGIN:DAYLIGHT
TZOFFSETFROM:+0200
TZOFFSETTO:+0300
TZNAME:EEST
DTSTART:20220327T010000
END:DAYLIGHT
BEGIN:STANDARD
TZOFFSETFROM:+0300
TZOFFSETTO:+0200
TZNAME:EET
DTSTART:20221030T010000
END:STANDARD
END:VTIMEZONE
BEGIN:VEVENT
DTSTART;TZID=Europe/Athens:20220201T180000
DTEND;TZID=Europe/Athens:20220228T180000
DTSTAMP:20260421T174922
CREATED:20220128T101650Z
LAST-MODIFIED:20220128T101719Z
UID:424963-1643738400-1646071200@newsgtp.th.staging.generation-y.net
SUMMARY:4ος Κύκλος Ξενοδοχειακών Webinars από την Hotelier Academy
DESCRIPTION:Την Τρίτη\, 1 Φεβρουαρίου 2022 στις 18:00\, ξεκινάει επίσημα ο τέταρτος κύκλος των Δωρεάν Ξενοδοχειακών Webinars της Hotelier Academy\, με ένα ιδιαίτερο Opening Live με τον Νίκο Σ. Μοράντη στο μοναδικό σκηνικό του The Foundry Suites. \nΚατά τη διάρκεια του opening\, θα αναλυθούν οι θεματικές που θα πραγματοποιηθούν κατά τη διάρκεια του Live Event που θα διαρκέσει όλον τον Φεβρουάριο\, ενώ θα παρουσιαστούν και οι εταιρείες που έχουν αναλάβει την δημιουργία του εκπαιδευτικού περιεχομένου της διοργάνωσης\, που έχει ως στόχο να παρουσιάσει τα νέα trends της Ξενοδοχειακής Αγοράς. \nΤο επίσημο πρόγραμμα του Live Event της Hotelier Academy ξεκινάει την Δευτέρα 7 Φεβρουαρίου\, και θα συμπεριλαμβάνει webinars στις 11:00 και στις 16:00\, τα οποία θα προβληθούν μέσα από τα κανάλια της Hotelier Academy αλλά και τα Social Media επιλεγμένων μέσων της Τουριστικής Αγοράς\, που θα δώσουν στον θεσμό ένα πιο διευρυμένο χαρακτήρα\, διευκολύνοντας την παρακολούθησή τους. \nΤο κοινό μπορεί ήδη να κάνει δωρεάν εγγραφή στο επίσημο website του event\, ενώ το πρόγραμμά των webinars θα ενημερώνεται διαρκώς και με νέες θεματικές μέχρι και τα την ολοκλήρωση της διοργάνωσης.  Μετά την παρακολούθηση του κάθε webinar\, θα υπάρχει δυνατότητα ολοκλήρωσης του σχετικού test αλλά και της λήψης της βεβαίωσης παρακολούθησης. \nΓια να παρακολουθήσετε το Opening του 4ου Live Event της Hotelier Academy\, κάντε εγγραφή σε αυτό το link.
URL:https://newsgtp.th.staging.generation-y.net/event/4os-kyklos-xenodohiaka-webinars-hotelier-academy/
LOCATION:Attica
CATEGORIES:Themed events,Workshops
ATTACH;FMTTYPE=image/jpeg:https://newsgtp.th.staging.generation-y.net/wp-content/uploads/2022/01/HotelierAcademyGreece_Live_logo_events.jpg
ORGANIZER;CN="Hotelier Academy":MAILTO:info@hotelieracademy.org
END:VEVENT
END:VCALENDAR